BEGIN:VCALENDAR
PRODID:brasil.gov.agenda
VERSION:1.0
BEGIN:VEVENT
DTSTART:20211220T140000Z
DTEND:20211220T180000Z
DCREATED:20211220T144419Z
UID:Compromisso-e5cb6d3b35f348d6b9684a6e14860dcf
SEQUENCE:0
LAST-MODIFIED:20211220T144419Z
SUMMARY:Despachos Internos
PRIORITY:3
TRANSP:0
END:VEVENT
END:VCALENDAR
