BEGIN:VCALENDAR
PRODID:brasil.gov.agenda
VERSION:1.0
BEGIN:VEVENT
DTSTART:20211217T160000Z
DTEND:20211217T180000Z
DCREATED:20211220T144230Z
UID:Compromisso-e6d4d42b24d848dd81132f68e77bb942
SEQUENCE:0
LAST-MODIFIED:20211220T144230Z
SUMMARY:Reunião On-line com Comissão de PAD
DESCRIPTION:Encaminhamentos refente ao Processo Administrativo Discipl
 inar nº 23086.012434/2021-98
LOCATION:Reitoria
PRIORITY:3
TRANSP:0
END:VEVENT
END:VCALENDAR
