BEGIN:VCALENDAR
PRODID:brasil.gov.agenda
VERSION:1.0
BEGIN:VEVENT
DTSTART:20211217T080000Z
DTEND:20211217T140000Z
DCREATED:20211220T144122Z
UID:Compromisso-2e021287e74f4397a92a778a46057fb2
SEQUENCE:0
LAST-MODIFIED:20211220T144122Z
SUMMARY:Despachos Internos
LOCATION:Reitoria
PRIORITY:3
TRANSP:0
END:VEVENT
END:VCALENDAR
