BEGIN:VCALENDAR
PRODID:brasil.gov.agenda
VERSION:1.0
BEGIN:VEVENT
DTSTART:20211217T140000Z
DTEND:20211217T160000Z
DCREATED:20211220T144144Z
UID:Compromisso-d67db85f94544580ac4d89ab64537916
SEQUENCE:0
LAST-MODIFIED:20211220T144144Z
SUMMARY:Despachos Internos
LOCATION:Reitoria
PRIORITY:3
TRANSP:0
END:VEVENT
END:VCALENDAR
