BEGIN:VCALENDAR
PRODID:brasil.gov.agenda
VERSION:1.0
BEGIN:VEVENT
DTSTART:20211215T080000Z
DTEND:20211215T120000Z
DCREATED:20211216T111924Z
UID:Compromisso-ddf11176881d4bba9251369590a2ed71
SEQUENCE:0
LAST-MODIFIED:20211216T111924Z
SUMMARY:Despachos Internos
LOCATION:Reitoria
PRIORITY:3
TRANSP:0
END:VEVENT
END:VCALENDAR
