BEGIN:VCALENDAR
PRODID:brasil.gov.agenda
VERSION:1.0
BEGIN:VEVENT
DTSTART:20211214T080000Z
DTEND:20211214T120000Z
DCREATED:20211216T111712Z
UID:Compromisso-ce75101e416447f5a217a7dacd23a5f0
SEQUENCE:0
LAST-MODIFIED:20211216T111712Z
SUMMARY:Despachos Internos
LOCATION:Reitoria
PRIORITY:3
TRANSP:0
END:VEVENT
END:VCALENDAR
