BEGIN:VCALENDAR
PRODID:brasil.gov.agenda
VERSION:1.0
BEGIN:VEVENT
DTSTART:20211214T140000Z
DTEND:20211214T180000Z
DCREATED:20211216T111740Z
UID:Compromisso-ab307dc95d8e44ceae5ea40378a2859e
SEQUENCE:0
LAST-MODIFIED:20211216T111740Z
SUMMARY:Despachos Internos
LOCATION:Reitoria
PRIORITY:3
TRANSP:0
END:VEVENT
END:VCALENDAR
