BEGIN:VCALENDAR
PRODID:brasil.gov.agenda
VERSION:1.0
BEGIN:VEVENT
DTSTART:20211210T080000Z
DTEND:20211210T120000Z
DCREATED:20211216T112825Z
UID:Compromisso-c99345e2b07c4d088e06da061a6823eb
SEQUENCE:0
LAST-MODIFIED:20211216T112825Z
SUMMARY:Despachos Internos
LOCATION:Reitoria
PRIORITY:3
TRANSP:0
END:VEVENT
END:VCALENDAR
