BEGIN:VCALENDAR
PRODID:brasil.gov.agenda
VERSION:1.0
BEGIN:VEVENT
DTSTART:20211209T080000Z
DTEND:20211209T120000Z
DCREATED:20211216T112726Z
UID:Compromisso-4420cef93eda402392db4f0a000f02ce
SEQUENCE:0
LAST-MODIFIED:20211216T112726Z
SUMMARY:Despachos Internos
LOCATION:Reitoria
PRIORITY:3
TRANSP:0
END:VEVENT
END:VCALENDAR
