BEGIN:VCALENDAR
PRODID:brasil.gov.agenda
VERSION:1.0
BEGIN:VEVENT
DTSTART:20211209T140000Z
DTEND:20211209T180000Z
DCREATED:20211216T112744Z
UID:Compromisso-70864c88aa8547b0b9c6759f79ef9fe6
SEQUENCE:0
LAST-MODIFIED:20211216T112744Z
SUMMARY:Despachos Internos
LOCATION:Reitoria
PRIORITY:3
TRANSP:0
END:VEVENT
END:VCALENDAR
