BEGIN:VCALENDAR
PRODID:brasil.gov.agenda
VERSION:1.0
BEGIN:VEVENT
DTSTART:20211207T000000Z
DTEND:20211207T000000Z
DCREATED:20211207T195002Z
UID:Compromisso-b259df63bb8048f4bffd610e8d7aaa9b
SEQUENCE:0
LAST-MODIFIED:20211207T195002Z
SUMMARY:Viagem a Brasília (DF) - Deslocamento
LOCATION:Em deslocamento
PRIORITY:3
TRANSP:0
END:VEVENT
END:VCALENDAR
