BEGIN:VCALENDAR
PRODID:brasil.gov.agenda
VERSION:1.0
BEGIN:VEVENT
DTSTART:20211206T080000Z
DTEND:20211206T120000Z
DCREATED:20211206T113409Z
UID:Compromisso-c5742d23a9de40cbbdbd6aa43599d36f
SEQUENCE:0
LAST-MODIFIED:20211206T113409Z
SUMMARY:Despachos Internos
LOCATION:Reitoria
PRIORITY:3
TRANSP:0
END:VEVENT
END:VCALENDAR
