BEGIN:VCALENDAR
PRODID:brasil.gov.agenda
VERSION:1.0
BEGIN:VEVENT
DTSTART:20211206T150000Z
DTEND:20211206T180000Z
DCREATED:20211206T113902Z
UID:Compromisso-0c954f115dfe4ae7bb41c726366cd529
SEQUENCE:0
LAST-MODIFIED:20211206T113902Z
SUMMARY:Despachos Internos
LOCATION:Reitoria
PRIORITY:3
TRANSP:0
END:VEVENT
END:VCALENDAR
