BEGIN:VCALENDAR
PRODID:brasil.gov.agenda
VERSION:1.0
BEGIN:VEVENT
DTSTART:20211206T143000Z
DTEND:20211206T150000Z
DCREATED:20211206T113517Z
UID:Compromisso-1c90492c220a4a7d9428036bd6649cdd
SEQUENCE:0
LAST-MODIFIED:20211206T113517Z
SUMMARY:Colação de grau posterior
LOCATION:Compromisso on-line
PRIORITY:3
TRANSP:0
END:VEVENT
END:VCALENDAR
