BEGIN:VCALENDAR
PRODID:brasil.gov.agenda
VERSION:1.0
BEGIN:VEVENT
DTSTART:20211203T080000Z
DTEND:20211203T090000Z
DCREATED:20211206T114109Z
UID:Compromisso-a8b2fe8b39d842838332e2ac0c1c2788
SEQUENCE:0
LAST-MODIFIED:20211206T114109Z
SUMMARY:Despachos Internos
LOCATION:Reitoria
PRIORITY:3
TRANSP:0
END:VEVENT
END:VCALENDAR
