BEGIN:VCALENDAR
PRODID:brasil.gov.agenda
VERSION:1.0
BEGIN:VEVENT
DTSTART:20211123T083000Z
DTEND:20211123T120000Z
DCREATED:20211124T135840Z
UID:Compromisso-407fd3d28b5b42f7bb7d9e0c02755459
SEQUENCE:0
LAST-MODIFIED:20211124T135840Z
SUMMARY:Reunião extraordinária do CONSEPE 171ª reunião
LOCATION:Reitoria
PRIORITY:3
TRANSP:0
END:VEVENT
END:VCALENDAR
