BEGIN:VCALENDAR
PRODID:brasil.gov.agenda
VERSION:1.0
BEGIN:VEVENT
DTSTART:20211123T140000Z
DTEND:20211123T180000Z
DCREATED:20211124T135930Z
UID:Compromisso-46ef443d6c794ec3862e871e8a3d8723
SEQUENCE:0
LAST-MODIFIED:20211124T135930Z
SUMMARY:Reunião extraordinária do CONSEPE 171ª reunião
LOCATION:Reitoria
PRIORITY:3
TRANSP:0
END:VEVENT
END:VCALENDAR
