BEGIN:VCALENDAR
PRODID:brasil.gov.agenda
VERSION:1.0
BEGIN:VEVENT
DTSTART:20211122T080000Z
DTEND:20211122T120000Z
DCREATED:20211124T135545Z
UID:Compromisso-5bd21141570344e5a58b183b172e5d6e
SEQUENCE:0
LAST-MODIFIED:20211124T135545Z
SUMMARY:Despachos Internos
PRIORITY:3
TRANSP:0
END:VEVENT
END:VCALENDAR
