BEGIN:VCALENDAR
PRODID:brasil.gov.agenda
VERSION:1.0
BEGIN:VEVENT
DTSTART:20211122T140000Z
DTEND:20211122T180000Z
DCREATED:20211124T135609Z
UID:Compromisso-5378ba3281274e5ba583f7bb3f94d159
SEQUENCE:0
LAST-MODIFIED:20211124T135609Z
SUMMARY:Despachos Internos
LOCATION:Reitoria
PRIORITY:3
TRANSP:0
END:VEVENT
END:VCALENDAR
