BEGIN:VCALENDAR
PRODID:brasil.gov.agenda
VERSION:1.0
BEGIN:VEVENT
DTSTART:20211119T153000Z
DTEND:20211119T180000Z
DCREATED:20211124T135453Z
UID:Compromisso-487a816a6f2f4425a5ab5ebdce26143c
SEQUENCE:0
LAST-MODIFIED:20211124T135453Z
SUMMARY:Despachos Internos
LOCATION:Reitoria
PRIORITY:3
TRANSP:0
END:VEVENT
END:VCALENDAR
