BEGIN:VCALENDAR
PRODID:brasil.gov.agenda
VERSION:1.0
BEGIN:VEVENT
DTSTART:20211119T140000Z
DTEND:20211119T150000Z
DCREATED:20211124T135354Z
UID:Compromisso-7938ef703e5542698f484dc440eb2241
SEQUENCE:0
LAST-MODIFIED:20211124T135354Z
SUMMARY:Despachos Internos
LOCATION:Reitoria
PRIORITY:3
TRANSP:0
END:VEVENT
END:VCALENDAR
