BEGIN:VCALENDAR
PRODID:brasil.gov.agenda
VERSION:1.0
BEGIN:VEVENT
DTSTART:20211118T140000Z
DTEND:20211118T180000Z
DCREATED:20211124T135251Z
UID:Compromisso-66d1f7489f934ac08adc77c97a111165
SEQUENCE:0
LAST-MODIFIED:20211124T135251Z
SUMMARY:Despachos Internos
LOCATION:Reitoria
PRIORITY:3
TRANSP:0
END:VEVENT
END:VCALENDAR
