BEGIN:VCALENDAR
PRODID:brasil.gov.agenda
VERSION:1.0
BEGIN:VEVENT
DTSTART:20211117T140000Z
DTEND:20211117T180000Z
DCREATED:20211124T135118Z
UID:Compromisso-288a8283cfc84e9a9ef4c29ea588526b
SEQUENCE:0
LAST-MODIFIED:20211124T135118Z
SUMMARY:Despachos Internos
LOCATION:Reitoria
PRIORITY:3
TRANSP:0
END:VEVENT
END:VCALENDAR
