BEGIN:VCALENDAR
PRODID:brasil.gov.agenda
VERSION:1.0
BEGIN:VEVENT
DTSTART:20211111T143000Z
DTEND:20211111T180000Z
DCREATED:20211117T111458Z
UID:Compromisso-e695bc6472964a42b6773daf940e8c82
SEQUENCE:0
LAST-MODIFIED:20211117T111458Z
SUMMARY:Despachos Internos
LOCATION:Reitoria
PRIORITY:3
TRANSP:0
END:VEVENT
END:VCALENDAR
