BEGIN:VCALENDAR
PRODID:brasil.gov.agenda
VERSION:1.0
BEGIN:VEVENT
DTSTART:20211109T143000Z
DTEND:20211109T160000Z
DCREATED:20211109T141458Z
UID:Compromisso-e1a70410801043e2a6c8ab50507b3e39
SEQUENCE:0
LAST-MODIFIED:20211109T151010Z
SUMMARY:Reunião com o Pró-Reitor de Gestão de Pessoas
DESCRIPTION:Assuntos Diversos da PROGEP
LOCATION:Reitoria
PRIORITY:3
TRANSP:0
END:VEVENT
END:VCALENDAR
