BEGIN:VCALENDAR
PRODID:brasil.gov.agenda
VERSION:1.0
BEGIN:VEVENT
DTSTART:20211109T080000Z
DTEND:20211109T120000Z
DCREATED:20211109T141342Z
UID:Compromisso-83ca0f20d1384be9af92461573b1efdd
SEQUENCE:0
LAST-MODIFIED:20211109T141342Z
SUMMARY:Despachos Internos
LOCATION:Reitoria
PRIORITY:3
TRANSP:0
END:VEVENT
END:VCALENDAR
