BEGIN:VCALENDAR
PRODID:brasil.gov.agenda
VERSION:1.0
BEGIN:VEVENT
DTSTART:20211109T160000Z
DTEND:20211109T180000Z
DCREATED:20211109T141606Z
UID:Compromisso-22afc70eaad54eef856564a7decd3420
SEQUENCE:0
LAST-MODIFIED:20211109T141606Z
SUMMARY:Despachos Internos
LOCATION:Reitoria
PRIORITY:3
TRANSP:0
END:VEVENT
END:VCALENDAR
