BEGIN:VCALENDAR
PRODID:brasil.gov.agenda
VERSION:1.0
BEGIN:VEVENT
DTSTART:20211109T140000Z
DTEND:20211109T150000Z
DCREATED:20211109T141406Z
UID:Compromisso-155853703a554f33be4a8ccb96e5998c
SEQUENCE:0
LAST-MODIFIED:20211109T141406Z
SUMMARY:Despachos Internos
LOCATION:Reitoria
PRIORITY:3
TRANSP:0
END:VEVENT
END:VCALENDAR
