BEGIN:VCALENDAR
PRODID:brasil.gov.agenda
VERSION:1.0
BEGIN:VEVENT
DTSTART:20211108T090000Z
DTEND:20211108T120000Z
DCREATED:20211109T141030Z
UID:Compromisso-22a3bdc86f7a43218d6e79879a1d0a55
SEQUENCE:0
LAST-MODIFIED:20211109T141030Z
SUMMARY:Reunião CACI
DESCRIPTION:Comissão de Conflito de Interesses
LOCATION:Reitoria
PRIORITY:3
TRANSP:0
END:VEVENT
END:VCALENDAR
