BEGIN:VCALENDAR
PRODID:brasil.gov.agenda
VERSION:1.0
BEGIN:VEVENT
DTSTART:20211108T080000Z
DTEND:20211108T090000Z
DCREATED:20211109T140904Z
UID:Compromisso-399c922232a4440f925961e5a774ce83
SEQUENCE:0
LAST-MODIFIED:20211109T140904Z
SUMMARY:Despachos Internos
LOCATION:Reitoria
PRIORITY:3
TRANSP:0
END:VEVENT
END:VCALENDAR
