BEGIN:VCALENDAR
PRODID:brasil.gov.agenda
VERSION:1.0
BEGIN:VEVENT
DTSTART:20211108T163000Z
DTEND:20211108T180000Z
DCREATED:20211109T141257Z
UID:Compromisso-1b8e4517adfe4bb39a4e030e60bc42b9
SEQUENCE:0
LAST-MODIFIED:20211109T141257Z
SUMMARY:Despachos Internos
LOCATION:Reitoria
PRIORITY:3
TRANSP:0
END:VEVENT
END:VCALENDAR
