BEGIN:VCALENDAR
PRODID:brasil.gov.agenda
VERSION:1.0
BEGIN:VEVENT
DTSTART:20211108T140000Z
DTEND:20211108T160000Z
DCREATED:20211109T141114Z
UID:Compromisso-32fc190b531f4ed19c8dc6764d7613b4
SEQUENCE:0
LAST-MODIFIED:20211109T141114Z
SUMMARY:Despachos Internos
LOCATION:Reitoria
PRIORITY:3
TRANSP:0
END:VEVENT
END:VCALENDAR
