BEGIN:VCALENDAR
PRODID:brasil.gov.agenda
VERSION:1.0
BEGIN:VEVENT
DTSTART:20211108T160000Z
DTEND:20211108T163000Z
DCREATED:20211109T141212Z
UID:Compromisso-9422223f8cc6421c8d1fb7e7159d4741
SEQUENCE:0
LAST-MODIFIED:20211109T141212Z
SUMMARY:Colação de grau posterior - Administração Pública
LOCATION:Reitoria
PRIORITY:3
TRANSP:0
END:VEVENT
END:VCALENDAR
