BEGIN:VCALENDAR
PRODID:brasil.gov.agenda
VERSION:1.0
BEGIN:VEVENT
DTSTART:20211105T140000Z
DTEND:20211105T180000Z
DCREATED:20211109T140734Z
UID:Compromisso-a3a04df17ff44ef79c195bca6d77ee24
SEQUENCE:0
LAST-MODIFIED:20211109T140734Z
SUMMARY:Despachos Internos
LOCATION:Reitoria
PRIORITY:3
TRANSP:0
END:VEVENT
END:VCALENDAR
