BEGIN:VCALENDAR
PRODID:brasil.gov.agenda
VERSION:1.0
BEGIN:VEVENT
DTSTART:20211104T140000Z
DTEND:20211104T180000Z
DCREATED:20211109T140619Z
UID:Compromisso-3254a924a8b44193999e22cf0cacc687
SEQUENCE:0
LAST-MODIFIED:20211109T140619Z
SUMMARY:260ª Reunião do CONSU\, Sendo a 111ª Sessão em Caráter Extraordinário
LOCATION:Reitoria
PRIORITY:3
TRANSP:0
END:VEVENT
END:VCALENDAR
