BEGIN:VCALENDAR
PRODID:brasil.gov.agenda
VERSION:1.0
BEGIN:VEVENT
DTSTART:20211103T143000Z
DTEND:20211103T150300Z
DCREATED:20211109T135415Z
UID:Compromisso-06b3467cf4b24657979f8294deb21c94
SEQUENCE:0
LAST-MODIFIED:20211109T135415Z
SUMMARY:Reunião SECOPE e CPA
DESCRIPTION:Acesso a computador e espaços
LOCATION:Reitoria
PRIORITY:3
TRANSP:0
END:VEVENT
END:VCALENDAR
