BEGIN:VCALENDAR
PRODID:brasil.gov.agenda
VERSION:1.0
BEGIN:VEVENT
DTSTART:20211103T080000Z
DTEND:20211103T120000Z
DCREATED:20211109T135305Z
UID:Compromisso-2bd3a53351854bdbaf8fd600b3fc2364
SEQUENCE:0
LAST-MODIFIED:20211109T135305Z
SUMMARY:Despachos Internos
LOCATION:Reitoria
PRIORITY:3
TRANSP:0
END:VEVENT
END:VCALENDAR
