BEGIN:VCALENDAR
PRODID:brasil.gov.agenda
VERSION:1.0
BEGIN:VEVENT
DTSTART:20211029T140000Z
DTEND:20211029T180000Z
DCREATED:20211109T135214Z
UID:Compromisso-e7ff5ac1cca74a3d9a984daf7bc2eb75
SEQUENCE:0
LAST-MODIFIED:20211109T135214Z
SUMMARY:Despachos Internos
LOCATION:Reitoria
PRIORITY:3
TRANSP:0
END:VEVENT
END:VCALENDAR
