BEGIN:VCALENDAR
PRODID:brasil.gov.agenda
VERSION:1.0
BEGIN:VEVENT
DTSTART:20211029T083000Z
DTEND:20211029T120000Z
DCREATED:20211109T135134Z
UID:Compromisso-b5db6681496e46e3a5d482a44ef372af
SEQUENCE:0
LAST-MODIFIED:20211109T135134Z
SUMMARY:258ª Reunião do CONSU\, Sendo a 109ª Sessão em Caráter Extraordinário
LOCATION:Reitoria
PRIORITY:3
TRANSP:0
END:VEVENT
END:VCALENDAR
