BEGIN:VCALENDAR
PRODID:brasil.gov.agenda
VERSION:1.0
BEGIN:VEVENT
DTSTART:20211028T100000Z
DTEND:20211028T120000Z
DCREATED:20211109T134705Z
UID:Compromisso-2376ada234af4ae39320342d684a3fe5
SEQUENCE:0
LAST-MODIFIED:20211109T134705Z
SUMMARY:Reunião On-line CITec
DESCRIPTION:Situação do CITec
LOCATION:Reitoria
PRIORITY:3
TRANSP:0
END:VEVENT
END:VCALENDAR
