BEGIN:VCALENDAR
PRODID:brasil.gov.agenda
VERSION:1.0
BEGIN:VEVENT
DTSTART:20211028T080000Z
DTEND:20211028T100000Z
DCREATED:20211109T134447Z
UID:Compromisso-3c6a023242904a1795cf49a2480638f8
SEQUENCE:0
LAST-MODIFIED:20211109T134447Z
SUMMARY:Despachos Internos
LOCATION:Reitoria
PRIORITY:3
TRANSP:0
END:VEVENT
END:VCALENDAR
