BEGIN:VCALENDAR
PRODID:brasil.gov.agenda
VERSION:1.0
BEGIN:VEVENT
DTSTART:20211028T140000Z
DTEND:20211028T180000Z
DCREATED:20211109T134747Z
UID:Compromisso-9bd28ed15cd3474588a8fe586f164f08
SEQUENCE:0
LAST-MODIFIED:20211109T134829Z
SUMMARY:259ª Reunião do CONSU\, Sendo a 110ª Sessão em Caráter Extraordinário
LOCATION:Reitoria
PRIORITY:3
TRANSP:0
END:VEVENT
END:VCALENDAR
