BEGIN:VCALENDAR
PRODID:brasil.gov.agenda
VERSION:1.0
BEGIN:VEVENT
DTSTART:20211027T140000Z
DTEND:20211027T180000Z
DCREATED:20211109T134358Z
UID:Compromisso-7313f9a1d4e5411d9b4a6cc5ea2595aa
SEQUENCE:0
LAST-MODIFIED:20211109T134358Z
SUMMARY:Despachos Internos
LOCATION:Reitoria
PRIORITY:3
TRANSP:0
END:VEVENT
END:VCALENDAR
