BEGIN:VCALENDAR
PRODID:brasil.gov.agenda
VERSION:1.0
BEGIN:VEVENT
DTSTART:20211026T143000Z
DTEND:20211026T180000Z
DCREATED:20211027T115715Z
UID:Compromisso-db6678a59e854f14b33be51195e5cd55
SEQUENCE:0
LAST-MODIFIED:20211027T115715Z
SUMMARY:Despachos Internos
LOCATION:Reitoria
PRIORITY:3
TRANSP:0
END:VEVENT
END:VCALENDAR
