BEGIN:VCALENDAR
PRODID:brasil.gov.agenda
VERSION:1.0
BEGIN:VEVENT
DTSTART:20211025T090000Z
DTEND:20211025T110000Z
DCREATED:20211027T115440Z
UID:Compromisso-0708ecc12c1f47888d9df03b39890d28
SEQUENCE:0
LAST-MODIFIED:20211027T115440Z
SUMMARY:Reunião com Diretor da Faculdade de Ciências Agrárias
LOCATION:Reitoria
PRIORITY:3
TRANSP:0
END:VEVENT
END:VCALENDAR
