BEGIN:VCALENDAR
PRODID:brasil.gov.agenda
VERSION:1.0
BEGIN:VEVENT
DTSTART:20211025T143000Z
DTEND:20211025T180000Z
DCREATED:20211027T115514Z
UID:Compromisso-728ff559e2594997b0b9066798735ef7
SEQUENCE:0
LAST-MODIFIED:20211027T115514Z
SUMMARY:Reunião com a Secretaria de Processo Administrativo (SecPad)
LOCATION:Reitoria
PRIORITY:3
TRANSP:0
END:VEVENT
END:VCALENDAR
