BEGIN:VCALENDAR
PRODID:brasil.gov.agenda
VERSION:1.0
BEGIN:VEVENT
DTSTART:20211022T143000Z
DTEND:20211022T153000Z
DCREATED:20211022T181058Z
UID:Compromisso-c6756bcc4bf14ada86f205312e06a2cd
SEQUENCE:0
LAST-MODIFIED:20211022T181058Z
SUMMARY:Reunião com o Diretor de Relações Internacionais
DESCRIPTION:Desempenho das universidades - 17 objetivos de Desempenho 
 sustentável da ONU
LOCATION:Reitoria
PRIORITY:3
TRANSP:0
END:VEVENT
END:VCALENDAR
