BEGIN:VCALENDAR
PRODID:brasil.gov.agenda
VERSION:1.0
BEGIN:VEVENT
DTSTART:20211022T153000Z
DTEND:20211022T180000Z
DCREATED:20211022T181128Z
UID:Compromisso-62977fb3bd8e4838948f2929f3da8e66
SEQUENCE:0
LAST-MODIFIED:20211022T181129Z
SUMMARY:Despachos Internos
LOCATION:Reitoria
PRIORITY:3
TRANSP:0
END:VEVENT
END:VCALENDAR
