BEGIN:VCALENDAR
PRODID:brasil.gov.agenda
VERSION:1.0
BEGIN:VEVENT
DTSTART:20211022T093000Z
DTEND:20211022T095900Z
DCREATED:20211022T180810Z
UID:Compromisso-40150bec0643462f8481f768e23ab5e6
SEQUENCE:0
LAST-MODIFIED:20211022T180934Z
SUMMARY:Colação de grau antecipada
LOCATION:Reitoria
PRIORITY:3
TRANSP:0
END:VEVENT
END:VCALENDAR
