BEGIN:VCALENDAR
PRODID:brasil.gov.agenda
VERSION:1.0
BEGIN:VEVENT
DTSTART:20211022T100000Z
DTEND:20211022T103000Z
DCREATED:20211022T180915Z
UID:Compromisso-f5795255bf25417babbf6f97d3f722fd
SEQUENCE:0
LAST-MODIFIED:20211022T180915Z
SUMMARY:Colação de grau antecipada
LOCATION:On-line
PRIORITY:3
TRANSP:0
END:VEVENT
END:VCALENDAR
